
BEGIN:VCALENDAR
VERSION:2.0
PRODID:-//MOTOCROSS.UA - ECPv6.0.11.2//NONSGML v1.0//EN
CALSCALE:GREGORIAN
METHOD:PUBLISH
X-ORIGINAL-URL:https://motocross.ua
X-WR-CALDESC:Події для MOTOCROSS.UA
REFRESH-INTERVAL;VALUE=DURATION:PT1H
X-Robots-Tag:noindex
X-PUBLISHED-TTL:PT1H
BEGIN:VTIMEZONE
TZID:Europe/Helsinki
BEGIN:DAYLIGHT
TZOFFSETFROM:+0200
TZOFFSETTO:+0300
TZNAME:EEST
DTSTART:20260329T010000
END:DAYLIGHT
BEGIN:STANDARD
TZOFFSETFROM:+0300
TZOFFSETTO:+0200
TZNAME:EET
DTSTART:20261025T010000
END:STANDARD
END:VTIMEZONE
BEGIN:VEVENT
DTSTART;VALUE=DATE:20260516
DTEND;VALUE=DATE:20260518
DTSTAMP:20260423T143719
CREATED:20260328T163347Z
LAST-MODIFIED:20260330T153210Z
UID:10738-1778889600-1779062399@motocross.ua
SUMMARY:Кубок Слобожанщини 2026
DESCRIPTION:16-17 травня в с. Чернещина ( Краснокутськ ТГ) відбудеться відкритий кубок Слобожанщини 2026 року.
URL:https://motocross.ua/event/kubok-slobojanschini-2026/
LOCATION:Краснокутська ТГ (с.Чернещина)\, 35MG+XRQ\, с. Чернещина\, Харківська область
CATEGORIES:Мотокрос
ATTACH;FMTTYPE=image/png:https://motocross.ua/wp-content/uploads/2026/03/IMG_20260325_155548_150.png
END:VEVENT
BEGIN:VEVENT
DTSTART;VALUE=DATE:20260529
DTEND;VALUE=DATE:20260601
DTSTAMP:20260423T143719
CREATED:20260222T091828Z
LAST-MODIFIED:20260222T091828Z
UID:10732-1780012800-1780271999@motocross.ua
SUMMARY:Етап Чемпіонату України\, с. Носачів
DESCRIPTION:
URL:https://motocross.ua/event/etap-chempionatu-ukraini-s-nosachiv/
LOCATION:Полтавська область
CATEGORIES:Мотокрос
ATTACH;FMTTYPE=image/jpeg:https://motocross.ua/wp-content/uploads/2026/02/640313660_1983527125563852_8711774425120710271_n.jpg
END:VEVENT
END:VCALENDAR