
BEGIN:VCALENDAR
VERSION:2.0
PRODID:-//MOTOCROSS.UA - ECPv6.0.11.2//NONSGML v1.0//EN
CALSCALE:GREGORIAN
METHOD:PUBLISH
X-WR-CALNAME:MOTOCROSS.UA
X-ORIGINAL-URL:https://motocross.ua
X-WR-CALDESC:Події для MOTOCROSS.UA
REFRESH-INTERVAL;VALUE=DURATION:PT1H
X-Robots-Tag:noindex
X-PUBLISHED-TTL:PT1H
BEGIN:VTIMEZONE
TZID:Europe/Helsinki
BEGIN:DAYLIGHT
TZOFFSETFROM:+0200
TZOFFSETTO:+0300
TZNAME:EEST
DTSTART:20240331T010000
END:DAYLIGHT
BEGIN:STANDARD
TZOFFSETFROM:+0300
TZOFFSETTO:+0200
TZNAME:EET
DTSTART:20241027T010000
END:STANDARD
END:VTIMEZONE
BEGIN:VEVENT
DTSTART;VALUE=DATE:20240427
DTEND;VALUE=DATE:20240429
DTSTAMP:20260425T175627
CREATED:20240411T120912Z
LAST-MODIFIED:20240424T075715Z
UID:8032-1714176000-1714348799@motocross.ua
SUMMARY:1й етап КУ з мотокросу (регіон1)
DESCRIPTION:27-28 квітня відбудеться 1й етап Кубку України з мотокросу (Регіон 1) в м. Оженин Рівненської області.\nКласи участі :\n— 50 см куб;\n— 65 см куб;\n— 85 см куб;\n— Хобі – МХ1 та МХ2;\n— Ветерани гр.1\,2\,3;\n— МХ1 та МХ2;\n— Жінки.\nДонати від дорослих 400 грн\, від дітей до 13 р. включно-200 грн\nГоловний секретар змагань Голубенко Оксана (0956753334\, 0986397383)Прохання\, завчасно готуйте страхові поліси (мін на 30 000 грн)\, медичні довідки\, Картки учасника та реєструйтесь.Онлайн реєстрація до четверга 25 квітня 2024р:\nhttps://docs.google.com/forms/d/e/1FAIp … sp=sharing\n\nСтартові номери (узгодження та бронювання) та картки учасника:\nviewtopic.php?f=2&t=59474
URL:https://motocross.ua/event/1y-etap-ku-p-motokrosu-region1/
LOCATION:Оженин\, CFMC+MJ7\, Оженин\, Ukraine
CATEGORIES:Мотокрос
ATTACH;FMTTYPE=image/jpeg:https://motocross.ua/wp-content/uploads/2024/04/434048342_2143141526056821_8554298245903983835_n.jpg
END:VEVENT
END:VCALENDAR