
BEGIN:VCALENDAR
VERSION:2.0
PRODID:-//MOTOCROSS.UA - ECPv6.0.11.2//NONSGML v1.0//EN
CALSCALE:GREGORIAN
METHOD:PUBLISH
X-WR-CALNAME:MOTOCROSS.UA
X-ORIGINAL-URL:https://motocross.ua
X-WR-CALDESC:Події для MOTOCROSS.UA
REFRESH-INTERVAL;VALUE=DURATION:PT1H
X-Robots-Tag:noindex
X-PUBLISHED-TTL:PT1H
BEGIN:VTIMEZONE
TZID:Europe/Helsinki
BEGIN:DAYLIGHT
TZOFFSETFROM:+0200
TZOFFSETTO:+0300
TZNAME:EEST
DTSTART:20240331T010000
END:DAYLIGHT
BEGIN:STANDARD
TZOFFSETFROM:+0300
TZOFFSETTO:+0200
TZNAME:EET
DTSTART:20241027T010000
END:STANDARD
END:VTIMEZONE
BEGIN:VEVENT
DTSTART;VALUE=DATE:20240915
DTEND;VALUE=DATE:20240916
DTSTAMP:20260425T174420
CREATED:20240906T065225Z
LAST-MODIFIED:20240910T064117Z
UID:8566-1726358400-1726444799@motocross.ua
SUMMARY:Благодійні мотоперегони з кантрі-кросу\, с.Текуча
DESCRIPTION:Благодійні змагання з Крос-Кантрі на потреби 74-го батальйону 102-ї бригади ТРО \nДата – 15.09.2024 \nЧас – 09:00 \nс.Текуча \n6 класів учасників: \n•MX-1 (ФІРМА 300cc і вище 4т; 200сс і вище 2т) \n•MX-2 (ФІРМА 250сс 4т; 125-150 2т) \n•Китай (учасники на мотоциклах китайського виробництва) \n•Аматори (новачки на брендових мотоциклах\, які не брали участь у змаганнях взагалі\, або ж не брали участь у офіційних змаганнях) \n•Ветерани 45+ (мотоцикли будь-якого виробництва та кубатури) \n•Жінки (мотоцикли будь-якого виробництва та кубатури) \nПризери будуть нагороджені кубками\, медалями\, грамотами та іншими цінними нагородами!по 5-те місце у кожному з класів! \n•Безпека \nНа змаганнях буде присутня карета швидкої екстренної допомоги. \nКожен учасник відповідає за своє життя та здоровʼя сам. При реєстрації погоджуючись з цим положенням \nНа локації будуть розміщені скриньки для донатів. \nВсі ми розуміємо\, що ситуація в країні не стабільна\, тому при загостренні\, в разі відмінення змагань\, ви будете попереджені
URL:https://motocross.ua/event/blagodiyni-motoperegoni-z-kantri-krosu-s-tekucha/
CATEGORIES:Кантрі-крос
ATTACH;FMTTYPE=image/jpeg:https://motocross.ua/wp-content/uploads/2024/09/458251147_2247886335582339_7158284254793483077_n.jpg
END:VEVENT
BEGIN:VEVENT
DTSTART;VALUE=DATE:20240914
DTEND;VALUE=DATE:20240916
DTSTAMP:20260425T174420
CREATED:20240905T151947Z
LAST-MODIFIED:20240907T193749Z
UID:8539-1726272000-1726444799@motocross.ua
SUMMARY:І етап Чемпіонату України з мотокросу
DESCRIPTION:
URL:https://motocross.ua/event/i-etap-chempionatu-ukraini-z-motokrosu/
LOCATION:Галич\, 4P9M+57F\, Івано-Франківська область
CATEGORIES:Мотокрос
ATTACH;FMTTYPE=image/jpeg:https://motocross.ua/wp-content/uploads/2024/09/458337221_2247462498958056_6656383431312272493_n.jpg
END:VEVENT
BEGIN:VEVENT
DTSTART;VALUE=DATE:20240908
DTEND;VALUE=DATE:20240909
DTSTAMP:20260425T174420
CREATED:20240904T134411Z
LAST-MODIFIED:20240904T135612Z
UID:8530-1725753600-1725839999@motocross.ua
SUMMARY:Кубок президента АМК "Кристал"\, Оженин\, трек "Цукрозавод"
DESCRIPTION:
URL:https://motocross.ua/event/kubok-prezidenta-mk-kristal/
CATEGORIES:Мотокрос
ATTACH;FMTTYPE=image/jpeg:https://motocross.ua/wp-content/uploads/2024/09/IMG_1206.jpg
END:VEVENT
BEGIN:VEVENT
DTSTART;VALUE=DATE:20240901
DTEND;VALUE=DATE:20240902
DTSTAMP:20260425T174420
CREATED:20240822T151044Z
LAST-MODIFIED:20240823T112340Z
UID:8517-1725148800-1725235199@motocross.ua
SUMMARY:ІІІ етап Кубку України з мотокросу\, регіон 1
DESCRIPTION:Онлайн заявка:\nhttps://docs.google.com/forms/d/e/1FAIpQLSfzqeNINouUzOr5rCWs2ciS7Nhc4Xiz4qIKsZNJvwT1PnKLRg/viewform
URL:https://motocross.ua/event/iii-etap-kubku-ukraini-z-motokrosu-region-1/
LOCATION:Нововолинськ\, P58M+CF\, Тишковичі\, Волинська область
CATEGORIES:Мотокрос
ATTACH;FMTTYPE=image/jpeg:https://motocross.ua/wp-content/uploads/2024/08/photo_2024-08-22_16-21-24.jpg
END:VEVENT
BEGIN:VEVENT
DTSTART;VALUE=DATE:20240824
DTEND;VALUE=DATE:20240826
DTSTAMP:20260425T174420
CREATED:20240820T140214Z
LAST-MODIFIED:20240820T141956Z
UID:8486-1724457600-1724630399@motocross.ua
SUMMARY:Кубок України ІІІ етап\, регіон 2
DESCRIPTION:24-25.08.2024 відбудеться 3 етап Кубку\nУкраїни з мотокросу у м. Великий Березний.\nЗверніть увагу\, що змагання проводяться в один день\, тому велике прохання реєструватися онлайн активніше.\nОнлайн реєстрація: \nДитяча заявка: \nhttps://forms.gle/aoi5W2gUqgaCFFja6 \nДоросла заявка: \nhttps://forms.gle/jiYyKcUVQ9YPFU919
URL:https://motocross.ua/event/kubok-ukraini-iii-etap-region-2/
LOCATION:Великий Березний\, WF6J+7XM\, Закарпатська область
CATEGORIES:Мотокрос
ATTACH;FMTTYPE=image/jpeg:https://motocross.ua/wp-content/uploads/2024/08/photo_2024-08-20_16-02-42.jpg
END:VEVENT
BEGIN:VEVENT
DTSTART;VALUE=DATE:20240824
DTEND;VALUE=DATE:20240825
DTSTAMP:20260425T174420
CREATED:20240819T111856Z
LAST-MODIFIED:20240820T142706Z
UID:8475-1724457600-1724543999@motocross.ua
SUMMARY:Традиційний мотокрос
DESCRIPTION:
URL:https://motocross.ua/event/tradiciyniy-motokros/
LOCATION:Жовті Води\, 8GM5+F5 Жовті Води\, Дніпропетровська область
CATEGORIES:Мотокрос
ATTACH;FMTTYPE=image/jpeg:https://motocross.ua/wp-content/uploads/2024/08/456161918_2197788827242253_7323376690891105587_n.jpg
END:VEVENT
BEGIN:VEVENT
DTSTART;VALUE=DATE:20240824
DTEND;VALUE=DATE:20240825
DTSTAMP:20260425T174420
CREATED:20240819T110655Z
LAST-MODIFIED:20240826T103043Z
UID:8470-1724457600-1724543999@motocross.ua
SUMMARY:ЧУ з суперкросу\, Чемпіонат Полтавської обл. з мотокросу
DESCRIPTION:
URL:https://motocross.ua/event/chu-z-superkrosu-chempionat-poltavskoi-obl-z-motokrosu/
LOCATION:Полтава “Патлаївка”\, JHMH+PMJ\, Полтавська область
CATEGORIES:Мотокрос,Суперкрос
ATTACH;FMTTYPE=image/jpeg:https://motocross.ua/wp-content/uploads/2024/08/IMG_1100.jpg
END:VEVENT
BEGIN:VEVENT
DTSTART;VALUE=DATE:20240823
DTEND;VALUE=DATE:20240826
DTSTAMP:20260425T174420
CREATED:20240820T151602Z
LAST-MODIFIED:20240820T151602Z
UID:8500-1724371200-1724630399@motocross.ua
SUMMARY:Фінал Чемпіонату України з Хард Ендуро
DESCRIPTION:Бескид Родео\nФінал Чемпіонату України з Хард Ендуро.\n23-25 серпня Гірськолижний Комплекс Плай. \nТаймінг заходу \n23.08.2024. День 1.\n16:00-20:00 – реєстрація учасників. Гірськолижний комплекс «Плай»\n24.08.2024. День 2.\n9:00-13:00 – реєстрація учасників. Гірськолижний комплекс «Плай»\n14:00 урочисте відкриття\, брифінг\n15:00-16:00 заїзд класів діти 65\, 85 куб см (40 хв) Гірськолижний комплекс «Плай»\n16:30 – 19:00 – заїзд класів Юнаки\, Аматори\, Ветерани\, Опен\, Юніори\, ПРО. (2.5 години) Гірськолижний комплекс «Плай»\n20:00 – брифінг. Гірськолижний комплекс «Плай» \n25.08.2024. День 3 (основний)\n10:30 – 11:30 –  заїзд класів діти 65\, 85 куб см (40 хв) Сколівський Карєр.\n12:00 – 17:00 –   заїзд класів Юнаки\, Аматори\, Ветерани\, Опен\, Юніори\, ПРО. (4\,44 години) Сколівський Карєр.\n19:00 – 20:00 – нагородження Beskyd Rodeo. «Гірськолижний комплекс «Плай» \nФорма реєстрації \nhttps://docs.google.com/forms/d/1XIDIdj1W_HRH8f5IqDAcnMZhkupH7ETCaqq6cSEmr1E/edit \nПісля реєстрації протягом доби кожному будуть надіслані реквізити для оплати. \nРеєстраційний внесок 3700 грн\n(Діти 65\,85 безкоштовно) \nЛокації заходу\nГірськолижний комплекс Плай \nhttps://maps.app.goo.gl/38FBK5GF8ZayqLc79?g_st=com.google.maps.preview.copy \nСколівський карєр \nhttps://maps.app.goo.gl/SnjNjB2B4WDEmxPn9?g_st=com.google.maps.preview.copy
URL:https://motocross.ua/event/final-chempionatu-ukraini-z-hard-enduro/
ATTACH;FMTTYPE=image/jpeg:https://motocross.ua/wp-content/uploads/2024/08/photo_2024-08-13_14-02-27.jpg
END:VEVENT
BEGIN:VEVENT
DTSTART;TZID=Europe/Helsinki:20240818T090000
DTEND;TZID=Europe/Helsinki:20240818T180000
DTSTAMP:20260425T174420
CREATED:20240721T224449Z
LAST-MODIFIED:20240723T065739Z
UID:8394-1723971600-1724004000@motocross.ua
SUMMARY:2 етап Кубок Житомирської області з кантрі-кросу
DESCRIPTION:Запрошуємо мотогонів прийняти участь в змаганнях з кантрікросу в Житомир\, які пройдуть на трасі в с. Клітчин. Відбудуться другі етапи Чемпіонатів Житомирської області з кантрікросу серед дорослих та юніорів\, Чемпіонату Житомира серед юнаків\, Кубку Житомира серед аматорів та ветеранів. До цього етапу трек суттєво покращений. Поєднання широких швидкісних мотокросових ділянок і трамплінів з рульожкою по полю\, лісу та перешкодами\, характерними для ендуро. Трек проїзний не лише для ендуро\, але і для кросових мотоциклів без додаткового захисту. Запрошуємо до участі! \nОнлайн реєстрація\nhttps://docs.google.com/forms/d/e/1FAIpQLSdUHGtzgm91xt2ybKfNoBIKDtjpoWlaqp4hmnz8cR4kONrpZA/viewform?fbclid=IwZXh0bgNhZW0CMTAAAR1p_6SJXqasBS4wZXFfxThJo_gNQlUnCgm_AlUbDmoM0xzwa0dJW1rYJoY_aem_QgLiR1ZQrRKJ7AnnRCZBvg
URL:https://motocross.ua/event/2-etap-chempionatg-jitomirskoi-oblasti-z-kantrikrosu/
LOCATION:Житомир (Клітчин)\, 6QJG+Q65\, Житомир\, Ukraine
CATEGORIES:Кантрі-крос
ATTACH;FMTTYPE=image/jpeg:https://motocross.ua/wp-content/uploads/2024/07/афіша.jpg
ORGANIZER;CN="%D0%A4%D0%B5%D0%B4%D0%B5%D1%80%D0%B0%D1%86%D1%96%D1%8F%20%D0%BC%D0%BE%D1%82%D0%BE%D1%86%D0%B8%D0%BA%D0%BB%D0%B5%D1%82%D0%BD%D0%BE%D0%B3%D0%BE%20%D1%81%D0%BF%D0%BE%D1%80%D1%82%D1%83%20%D0%B2%20%D0%96%D0%B8%D1%82%D0%BE%D0%BC%D0%B8%D1%80%D1%81%D1%8C%D0%BA%D1%96%D0%B9%20%D0%BE%D0%B1%D0%BB%D0%B0%D1%81%D1%82%D1%96":MAILTO:arthurmoto1@ukr.net
END:VEVENT
BEGIN:VEVENT
DTSTART;VALUE=DATE:20240810
DTEND;VALUE=DATE:20240811
DTSTAMP:20260425T174420
CREATED:20240806T083849Z
LAST-MODIFIED:20240806T083849Z
UID:8459-1723248000-1723334399@motocross.ua
SUMMARY:І етап Чемпіонату Полтавської обл. з мотокросу\, м.Полтава
DESCRIPTION:
URL:https://motocross.ua/event/i-etap-chempionatu-poltavskoi-obl-z-motokrosu-m-poltava/
CATEGORIES:Мотокрос
ATTACH;FMTTYPE=image/jpeg:https://motocross.ua/wp-content/uploads/2024/08/454240453_3926873594211961_488045080696981324_n.jpg
END:VEVENT
BEGIN:VEVENT
DTSTART;VALUE=DATE:20240727
DTEND;VALUE=DATE:20240728
DTSTAMP:20260425T174420
CREATED:20240724T141048Z
LAST-MODIFIED:20240724T142128Z
UID:8404-1722038400-1722124799@motocross.ua
SUMMARY:Чемпіонат Сумської області з мотокросу
DESCRIPTION:
URL:https://motocross.ua/event/chempionat-sumskoi-oblasti-z-motokrosu/
LOCATION:Суми\, XV62+95\, Суми
CATEGORIES:Мотокрос
ATTACH;FMTTYPE=image/jpeg:https://motocross.ua/wp-content/uploads/2024/07/452411903_8008988062499114_7814744474843714038_n.jpg
END:VEVENT
BEGIN:VEVENT
DTSTART;VALUE=DATE:20240719
DTEND;VALUE=DATE:20240722
DTSTAMP:20260425T174420
CREATED:20240711T074313Z
LAST-MODIFIED:20240711T074313Z
UID:8369-1721347200-1721606399@motocross.ua
SUMMARY:2 етап Чемпіоната та Кубока України з ендуро
DESCRIPTION:Онлайн реєстрація вже відкрита:\nhttps://forms.gle/XB9oCuscBFeut7Cv7
URL:https://motocross.ua/event/2-etap-chempionata-ta-kuboka-ukraini-z-enduro/
CATEGORIES:Ендуро
ATTACH;FMTTYPE=image/jpeg:https://motocross.ua/wp-content/uploads/2024/07/photo_2024-07-09_22-46-36.jpg
END:VEVENT
BEGIN:VEVENT
DTSTART;VALUE=DATE:20240712
DTEND;VALUE=DATE:20240715
DTSTAMP:20260425T174420
CREATED:20240513T171207Z
LAST-MODIFIED:20240513T195446Z
UID:8267-1720742400-1721001599@motocross.ua
SUMMARY:1-й Етап офіційного ЧУ з Хард Ендуро (HECU)\, Житомир
DESCRIPTION:«O’Kurwaaa Bóbr» Hard Enduro ver. \n1-й Етап офіційного чемпіонату України з Хард Ендуро (HECU) \nЗа підтримки Федерації Мотоспорту України та\nГО «Спорт-Мото» \n“412_enduro_club”\nзапрошуює на Офіційні змагання з Хард Ендуро! \nЖитомирщина здивується та задовільнить потреби навіть надпотужних райдерів! \nМета заходу:\n– Підтримка ЗСУ!\n⁃ популяризація та розвиток Хард Ендуро одного з мотоциклетних напрямків в Україні.\n⁃ Підвищення рівня майстерності спортсменів\n⁃ Популяризація духу змагань серед новачків! \nЖитомирщина з теплом зустріне кожного відчайдушного спортсмена\, ЗІГРІЄ та НАГОДУЄ кожного учасника \nТакож протягом заходу буде присутня карета посиленої Швидкої допомоги \nКласи учасників: \n⁃Аматор (Light)\n⁃Ветеран (Light)\n⁃Юнаки (Light)\n⁃Опен (Medium)\n⁃Юніор (Medium)\n⁃ПРО (Hard) \n⁃Діти 65 см3 (ДЕСУ)\n⁃Діти 85 см3 (ДЕСУ) \nДля участі в заході необхідно заповнити форму: \nhttps://forms.gle/mHaiAadUY7tbzxyQ8 \n(ТІЛЬКИ ОН-ЛАЙН РЕЄСТРАЦІЯ) \nСтартовий внесок \nДо 01.06.2024 – 3000 грн \n65см3 – 85см3 – 800 грн (незмінно) \nНа карту 5168755459959017 \nМельник А.В. \nСкрін з оплатою відправляти в меседжерах за номерами \n0637367795\nАбо\n0939044156 \nЯкщо райдер з особистих причин не прийняв участь у заході – внесок не повертається\, а лише може бути перенесений на наступний захід за умови попередньої домовленості.
URL:https://motocross.ua/event/1-y-etap-oficiynogo-chu-z-hard-enduro-hecu-12-14-lipnya-jitomir/
CATEGORIES:Ендуро
ATTACH;FMTTYPE=image/jpeg:https://motocross.ua/wp-content/uploads/2024/05/photo_2024-05-09_22-18-57.jpg
END:VEVENT
BEGIN:VEVENT
DTSTART;VALUE=DATE:20240707
DTEND;VALUE=DATE:20240708
DTSTAMP:20260425T174420
CREATED:20240628T065132Z
LAST-MODIFIED:20240703T162610Z
UID:8352-1720310400-1720396799@motocross.ua
SUMMARY:Кубок України з мотокросу\, ІІ етап
DESCRIPTION:
URL:https://motocross.ua/event/kubok-ukraini-z-motokrosu-ii-etap/
LOCATION:Полтава “Патлаївка”\, JHMH+PMJ\, Полтавська область
CATEGORIES:Мотокрос
ATTACH;FMTTYPE=image/jpeg:https://motocross.ua/wp-content/uploads/2024/06/IMG_0888.jpeg
END:VEVENT
BEGIN:VEVENT
DTSTART;VALUE=DATE:20240629
DTEND;VALUE=DATE:20240701
DTSTAMP:20260425T174420
CREATED:20240620T073119Z
LAST-MODIFIED:20240620T073119Z
UID:8331-1719619200-1719791999@motocross.ua
SUMMARY:1 та 2 етапи Чемпіонату України з суперкросу та Чемпіонат м.Чернівців
DESCRIPTION:Онлайн реєстрація: \nДитяча заявка:\nhttps://forms.gle/DCxxBKH6t7cboxQq6 \nДоросла заявка:\nhttps://forms.gle/jJD72ALJknG8RsvL8
URL:https://motocross.ua/event/1-ta-2-etapi-chempionatu-ukraini-z-superkrosu-ta-chempionat-m-chernivciv/
LOCATION:Чернівці\, 7XGH+89\, Чернівецька область
CATEGORIES:Суперкрос
ATTACH;FMTTYPE=image/jpeg:https://motocross.ua/wp-content/uploads/2024/06/photo_2024-06-20_10-23-18.jpg
END:VEVENT
BEGIN:VEVENT
DTSTART;VALUE=DATE:20240615
DTEND;VALUE=DATE:20240617
DTSTAMP:20260425T174420
CREATED:20240608T130830Z
LAST-MODIFIED:20240608T130830Z
UID:8304-1718409600-1718582399@motocross.ua
SUMMARY:2 етап Кубку України з мотокросу (Регіон 2)
DESCRIPTION:Онлайн реєстрація вже відкрита:\n• Доросла заявка:\nhttps://forms.gle/RFvVbTzY6D538Mn6A\n• Дитяча заявка:\nhttps://forms.gle/UZdRYsbyZcBsJYHd7
URL:https://motocross.ua/event/2-etap-kubku-ukraini-z-motokrosu-region-2/
LOCATION:Галич\, 4P9M+57F\, Івано-Франківська область
CATEGORIES:Мотокрос
ATTACH;FMTTYPE=image/jpeg:https://motocross.ua/wp-content/uploads/2024/06/photo_2024-06-07_16-15-56.jpg
END:VEVENT
BEGIN:VEVENT
DTSTART;VALUE=DATE:20240615
DTEND;VALUE=DATE:20240616
DTSTAMP:20260425T174420
CREATED:20240516T074148Z
LAST-MODIFIED:20240530T091409Z
UID:8284-1718409600-1718495999@motocross.ua
SUMMARY:3-й Етап офіційного ЧУ з кантрі-кросу\, с. Воскресінці
DESCRIPTION:15 червня (субота ) 2024 року Коломийський р-н с. Воскресінці \n3-й Етап офіційного чемпіонату України з кантрі-кросу ! \nФедерація Мотоспорту України\nзапрошуює на Офіційні змагання з кантрі-кросу. \nМета заходу:\n– Підтримка ЗСУ!\n⁃ популяризація та розвиток кантрі-кросу одного з мотоциклетних напрямків в Україні.\n⁃ Підвищення рівня майстерності спортсменів\n⁃ Популяризація духу змагань серед новачків! \n  \nОфіційний залік Федерації Мотоспорту України!\nКласи: \n– Діти 50\, 65сс\n– Юніори 85сс\n– Ветеран (від 45 років)\n– Аматори\n– MX – 1\n– MX – 2 \n  \nДля участі у заході необхідно\nОформити ліцензію (картку учасника змагань) ФМСу та заповнити електронну форму: \nhttps://forms.gle/DDx9xB9fgDLEhfX1A \nДані для реєстрації приймаються до 14.06.2024 \n(ТІЛЬКИ ОН-ЛАЙН РЕЄСТРАЦІЯ) \nСтартовий внесок\nДо 01.06.2024 – 1500 грн\nДо 14.06.2024 – 1800 грн \nКласи 50сс\, 65сс\, 85сс внесок – 500 грн. \nНа карту: \n4149 4998 0511 6942\nПопелюк Оксана Іванівна \nПісля оплати стартового внеску відправте скрін або час та ПІБ відправника в мессенджерах за номерами \n+380 68 552 93 54 (Михайло)\nАбо\n+380 68 189 78 78 (Оксана) \nЧАТ ЗАХОДУ \nhttps://t.me/fmsu_races \n❗️Зібрані кошти зі скриньки підуть на підтримку ЗСУ для прискорення нашої перемоги ❗️
URL:https://motocross.ua/event/3-y-etap-oficiynogo-chu-z-kantri-krosu-s-voskresinci/
CATEGORIES:Кантрі-крос
ATTACH;FMTTYPE=image/jpeg:https://motocross.ua/wp-content/uploads/2024/05/photo_2024-05-29_12-02-14.jpg
END:VEVENT
BEGIN:VEVENT
DTSTART;VALUE=DATE:20240608
DTEND;VALUE=DATE:20240610
DTSTAMP:20260425T174420
CREATED:20240513T170448Z
LAST-MODIFIED:20240513T195520Z
UID:8264-1717804800-1717977599@motocross.ua
SUMMARY:Кубок України
DESCRIPTION:
URL:https://motocross.ua/event/kubok-ukraini-8-9-chervnya-2024-novovolinsk/
LOCATION:Нововолинськ\, P58M+CF\, Тишковичі\, Волинська область
CATEGORIES:Мотокрос
ATTACH;FMTTYPE=image/jpeg:https://motocross.ua/wp-content/uploads/2024/05/photo_2024-05-13_16-00-59.jpg
END:VEVENT
BEGIN:VEVENT
DTSTART;VALUE=DATE:20240531
DTEND;VALUE=DATE:20240603
DTSTAMP:20260425T174420
CREATED:20240521T051907Z
LAST-MODIFIED:20240521T051907Z
UID:8290-1717113600-1717372799@motocross.ua
SUMMARY:Чемпіонат та Кубок України з ендуро\, Вижниця
DESCRIPTION:* Онлайн реєстрація вже відкрита:\nhttps://forms.gle/iGQjQeDU2puN9Sw26
URL:https://motocross.ua/event/chempionat-ta-kubok-ukraini-z-enduro-vijnicya/
CATEGORIES:Ендуро
ATTACH;FMTTYPE=image/jpeg:https://motocross.ua/wp-content/uploads/2024/05/photo_2024-05-21_07-24-28.jpg
END:VEVENT
BEGIN:VEVENT
DTSTART;VALUE=DATE:20240525
DTEND;VALUE=DATE:20240527
DTSTAMP:20260425T174420
CREATED:20240516T074431Z
LAST-MODIFIED:20240518T074156Z
UID:8287-1716595200-1716767999@motocross.ua
SUMMARY:Кубок України з мотокросу
DESCRIPTION:
URL:https://motocross.ua/event/kubok-ukraini-z-motokrosu/
LOCATION:Ковель (урочище Люблинець)\, 5MM5+8R\, Ковель\, Волинська обл.\, Ukraine
CATEGORIES:Мотокрос
ATTACH;FMTTYPE=image/jpeg:https://motocross.ua/wp-content/uploads/2024/05/photo_2024-05-15_19-28-52.jpg
END:VEVENT
BEGIN:VEVENT
DTSTART;VALUE=DATE:20240518
DTEND;VALUE=DATE:20240520
DTSTAMP:20260425T174420
CREATED:20240513T170115Z
LAST-MODIFIED:20240513T195612Z
UID:8261-1715990400-1716163199@motocross.ua
SUMMARY:Кубок України
DESCRIPTION:
URL:https://motocross.ua/event/kubok-ukraini-18-19-travnya-2024-galich/
LOCATION:Галич\, 4P9M+57F\, Івано-Франківська область
CATEGORIES:Мотокрос
ATTACH;FMTTYPE=image/jpeg:https://motocross.ua/wp-content/uploads/2024/05/photo_2024-05-12_09-56-51.jpg
END:VEVENT
BEGIN:VEVENT
DTSTART;VALUE=DATE:20240511
DTEND;VALUE=DATE:20240512
DTSTAMP:20260425T174420
CREATED:20240502T172256Z
LAST-MODIFIED:20240502T173724Z
UID:8163-1715385600-1715471999@motocross.ua
SUMMARY:1й етап КУ з мотокросу (регіон2)
DESCRIPTION:Реєстрація>>>
URL:https://motocross.ua/event/1y-etap-ku-z-motokrosu-region2/
LOCATION:Чернівці\, 7XGH+89\, Чернівецька область
CATEGORIES:Мотокрос
ATTACH;FMTTYPE=image/jpeg:https://motocross.ua/wp-content/uploads/2024/05/photo_2024-05-02_20-08-15.jpg
END:VEVENT
BEGIN:VEVENT
DTSTART;VALUE=DATE:20240428
DTEND;VALUE=DATE:20240429
DTSTAMP:20260425T174420
CREATED:20240405T083910Z
LAST-MODIFIED:20240405T085322Z
UID:8010-1714262400-1714348799@motocross.ua
SUMMARY:ІІ етап ЧУ з кантрі-кросу
DESCRIPTION:28 квітня (неділя) 2024 року м. Тернопіль \nЕтап офіційного чемпіонату України з кантрі-кросу !! \nЗа підтримки Федерації Мотоспорту України та\nГО «Ендуро-Тернопіль» \n“Enduro-Ternopil”\nзапрошуює на Офіційні змагання з кантрі-кросу \nМета заходу:\n– Підтримка ЗСУ!\n⁃ популяризація та розвиток кантрі-кросу одного з мотоциклетних напрямків в Україні.\n⁃ Підвищення рівня майстерності спортсменів\n⁃ Популяризація духу змагань серед новачків! \nТакож протягом заходу буде присутня карета посиленої Швидкої допомоги \nОфіційний залік Федерації Мотоспорту України!\nКласи: \n– Діти 50\, 65сс\n– Юніори 85сс\n– Ветеран (від 45 років)\n– Аматори\n– MX – 1\n– MX – 2 \nДля участі у заході необхідно заповнити електронну форму: \nhttps://forms.gle/PBZdZeHSgzYsXgP6A \nДані для реєстрації приймаються до 26.04.2024 \n(ТІЛЬКИ ОН-ЛАЙН РЕЄСТРАЦІЯ) \n💰Стартовий внесок 💵\nДо 22.04.2024 – 1800 грн\nДо 26.04.2024 – 2000 грн \nКласи 50сс\, 65сс\, 85сс внесок – 500 грн. \nНа карту 5457082502615243 \nДеркач М.І. \nПісля оплати стартового внеску відправте скрін або час та ПІБ відправника в мессенджерах за номерами\n0971054103 \nЯкщо райдер з особистих причин не прийняв участь у заході – внесок не повертається\, а лише може бути перенесений на наступний захід за умови попередньої домовленості. \nP.S. Всі ми розуміємо що в даний час буде важко планувати щось наперед. На момент анонсу заходу ми не можемо знати якою буде ситуація в Україні\, тому не виключаємо можливості що захід може бути перенесено з об‘єктивних причин\, якщо будемо вимушені піти на такі міри – всі внески учасників зберігаються і будуть закріплені за спортсменами\n(можна використати на будь-який захід організований нашою спільнотою)
URL:https://motocross.ua/event/ii-etap-chu-z-kantri-krosu/
CATEGORIES:Кантрі-крос
ATTACH;FMTTYPE=image/jpeg:https://motocross.ua/wp-content/uploads/2024/04/photo_2024-04-03_20-03-32.jpg
END:VEVENT
BEGIN:VEVENT
DTSTART;VALUE=DATE:20240428
DTEND;VALUE=DATE:20240429
DTSTAMP:20260425T174420
CREATED:20240325T072417Z
LAST-MODIFIED:20240405T085448Z
UID:7875-1714262400-1714348799@motocross.ua
SUMMARY:Кубок Житомирської області з кантрі-кросу
DESCRIPTION:Реєстрація на змагання>>> \n \nРеєстрація на змагання>>>
URL:https://motocross.ua/event/kubok-jitomirskoi-oblasti-z-kantrikrosu/
LOCATION:Житомир (Клітчин)\, 6QJG+Q65\, Житомир\, Ukraine
CATEGORIES:Кантрі-крос
ATTACH;FMTTYPE=image/jpeg:https://motocross.ua/wp-content/uploads/2024/03/431582104_750987093766943_2943815537437374811_n.jpg
ORGANIZER;CN="%D0%A4%D0%B5%D0%B4%D0%B5%D1%80%D0%B0%D1%86%D1%96%D1%8F%20%D0%BC%D0%BE%D1%82%D0%BE%D1%86%D0%B8%D0%BA%D0%BB%D0%B5%D1%82%D0%BD%D0%BE%D0%B3%D0%BE%20%D1%81%D0%BF%D0%BE%D1%80%D1%82%D1%83%20%D0%B2%20%D0%96%D0%B8%D1%82%D0%BE%D0%BC%D0%B8%D1%80%D1%81%D1%8C%D0%BA%D1%96%D0%B9%20%D0%BE%D0%B1%D0%BB%D0%B0%D1%81%D1%82%D1%96":MAILTO:arthurmoto1@ukr.net
END:VEVENT
BEGIN:VEVENT
DTSTART;VALUE=DATE:20240427
DTEND;VALUE=DATE:20240429
DTSTAMP:20260425T174420
CREATED:20240411T120912Z
LAST-MODIFIED:20240424T075715Z
UID:8032-1714176000-1714348799@motocross.ua
SUMMARY:1й етап КУ з мотокросу (регіон1)
DESCRIPTION:27-28 квітня відбудеться 1й етап Кубку України з мотокросу (Регіон 1) в м. Оженин Рівненської області.\nКласи участі :\n— 50 см куб;\n— 65 см куб;\n— 85 см куб;\n— Хобі – МХ1 та МХ2;\n— Ветерани гр.1\,2\,3;\n— МХ1 та МХ2;\n— Жінки.\nДонати від дорослих 400 грн\, від дітей до 13 р. включно-200 грн\nГоловний секретар змагань Голубенко Оксана (0956753334\, 0986397383)Прохання\, завчасно готуйте страхові поліси (мін на 30 000 грн)\, медичні довідки\, Картки учасника та реєструйтесь.Онлайн реєстрація до четверга 25 квітня 2024р:\nhttps://docs.google.com/forms/d/e/1FAIp … sp=sharing\n\nСтартові номери (узгодження та бронювання) та картки учасника:\nviewtopic.php?f=2&t=59474
URL:https://motocross.ua/event/1y-etap-ku-p-motokrosu-region1/
LOCATION:Оженин\, CFMC+MJ7\, Оженин\, Ukraine
CATEGORIES:Мотокрос
ATTACH;FMTTYPE=image/jpeg:https://motocross.ua/wp-content/uploads/2024/04/434048342_2143141526056821_8554298245903983835_n.jpg
END:VEVENT
END:VCALENDAR