
BEGIN:VCALENDAR
VERSION:2.0
PRODID:-//MOTOCROSS.UA - ECPv6.0.11.2//NONSGML v1.0//EN
CALSCALE:GREGORIAN
METHOD:PUBLISH
X-ORIGINAL-URL:https://motocross.ua
X-WR-CALDESC:Події для MOTOCROSS.UA
REFRESH-INTERVAL;VALUE=DURATION:PT1H
X-Robots-Tag:noindex
X-PUBLISHED-TTL:PT1H
BEGIN:VTIMEZONE
TZID:Europe/Helsinki
BEGIN:DAYLIGHT
TZOFFSETFROM:+0200
TZOFFSETTO:+0300
TZNAME:EEST
DTSTART:20260329T010000
END:DAYLIGHT
BEGIN:STANDARD
TZOFFSETFROM:+0300
TZOFFSETTO:+0200
TZNAME:EET
DTSTART:20261025T010000
END:STANDARD
END:VTIMEZONE
BEGIN:VEVENT
DTSTART;VALUE=DATE:20260426
DTEND;VALUE=DATE:20260427
DTSTAMP:20260423T144945
CREATED:20260423T064555Z
LAST-MODIFIED:20260423T064555Z
UID:10763-1777161600-1777247999@motocross.ua
SUMMARY:Кубок України\, 2 етап
DESCRIPTION:26.04.2026 відбудеться 2-гий етап Кубку України з мотокросу в с. Мервичі Львівської області. \nРеєстрація вже відкрита \nДитяча заявка:\nhttps://forms.gle/wx744sBLcVb3r5jSA \nДоросла заявка:\nhttps://forms.gle/4SRo2982qcttmGyC6
URL:https://motocross.ua/event/kubok-ukraini-2-etap/
LOCATION:Мервичі “Wizenberg”\, X2R6+XV\, Мервичі\, Львівська область
CATEGORIES:Мотокрос
ATTACH;FMTTYPE=image/jpeg:https://motocross.ua/wp-content/uploads/2026/04/121212.jpg
END:VEVENT
END:VCALENDAR