
BEGIN:VCALENDAR
VERSION:2.0
PRODID:-//MOTOCROSS.UA - ECPv6.0.11.2//NONSGML v1.0//EN
CALSCALE:GREGORIAN
METHOD:PUBLISH
X-ORIGINAL-URL:https://motocross.ua
X-WR-CALDESC:Події для MOTOCROSS.UA
REFRESH-INTERVAL;VALUE=DURATION:PT1H
X-Robots-Tag:noindex
X-PUBLISHED-TTL:PT1H
BEGIN:VTIMEZONE
TZID:Europe/Helsinki
BEGIN:DAYLIGHT
TZOFFSETFROM:+0200
TZOFFSETTO:+0300
TZNAME:EEST
DTSTART:20250330T010000
END:DAYLIGHT
BEGIN:STANDARD
TZOFFSETFROM:+0300
TZOFFSETTO:+0200
TZNAME:EET
DTSTART:20251026T010000
END:STANDARD
END:VTIMEZONE
BEGIN:VEVENT
DTSTART;VALUE=DATE:20251102
DTEND;VALUE=DATE:20251103
DTSTAMP:20260423T220012
CREATED:20251018T072854Z
LAST-MODIFIED:20251018T072854Z
UID:10454-1762041600-1762127999@motocross.ua
SUMMARY:Відкритий Кубок Львова
DESCRIPTION:
URL:https://motocross.ua/event/vidkritiy-kubok-lvova/
LOCATION:Львів “Майорівка”\, R39Q+J5Q\, Львів\, Львівська область
CATEGORIES:Мотокрос
ATTACH;FMTTYPE=image/jpeg:https://motocross.ua/wp-content/uploads/2025/10/565669388_1383721610421721_7322301921182618603_n.jpg
ORGANIZER;CN="%D0%9C%D0%BE%D1%82%D0%BE%D0%BA%D0%BB%D1%83%D0%B1%20%22%D0%97%D0%B0%D0%B7%D1%96%D1%80%27%D1%8F%22%20%D0%9B%D1%8C%D0%B2%D1%96%D0%B2":MAILTO:kosmich21372137@gmail.com
END:VEVENT
END:VCALENDAR