
BEGIN:VCALENDAR
VERSION:2.0
PRODID:-//MOTOCROSS.UA - ECPv6.0.11.2//NONSGML v1.0//EN
CALSCALE:GREGORIAN
METHOD:PUBLISH
X-ORIGINAL-URL:https://motocross.ua
X-WR-CALDESC:Події для MOTOCROSS.UA
REFRESH-INTERVAL;VALUE=DURATION:PT1H
X-Robots-Tag:noindex
X-PUBLISHED-TTL:PT1H
BEGIN:VTIMEZONE
TZID:Europe/Helsinki
BEGIN:DAYLIGHT
TZOFFSETFROM:+0200
TZOFFSETTO:+0300
TZNAME:EEST
DTSTART:20250330T010000
END:DAYLIGHT
BEGIN:STANDARD
TZOFFSETFROM:+0300
TZOFFSETTO:+0200
TZNAME:EET
DTSTART:20251026T010000
END:STANDARD
END:VTIMEZONE
BEGIN:VEVENT
DTSTART;VALUE=DATE:20250906
DTEND;VALUE=DATE:20250908
DTSTAMP:20260424T013739
CREATED:20250803T091326Z
LAST-MODIFIED:20250830T191246Z
UID:10327-1757116800-1757289599@motocross.ua
SUMMARY:IV етап Кубка України
DESCRIPTION:6–7 вересня у смт. Великий Березний відбудеться IV етап Кубка України та ювілейний XXXX традиційний міжобласний мотокрос\, який щороку збирає найкращих спортсменів і сотні глядачів!\n\n\n Класи мотоциклів:\n50\, 65\, 85\, MX-2\, MX-1\, Хобі MX-2\, Хобі MX-1\, Жінки\, Пітбайки\, Ветеран-1\, Ветеран-2\, Ветеран-3\n\n\n Організатори подбали про все!\nЗусилля команди організаторів вже видно неозброєним оком — траса виглядає епічно. Організатори витиснули максимум із кожного метра\, щоб учасники відчули справжню силу мотокросу\, а глядачі – не могли відірвати погляд від заїздів! Цього року траса як ніколи заряджена на швидкість і видовищні заїзди!\n\n\nТакож\, щиро запрошуємо на розважальну програму:\n\n\n6 вересня о 18:00 – виступ кавер-гурту Golden Voice \n\n\n Початок змагань:\n7 вересня о 10:00\n\n\n Локація:\nсмт. Великий Березний\, урочище Термачув\, Закарпатська область\n\n\n\nДитяча заявка:\nhttps://forms.gle/82t1ajXZqKT1QTxm9 \nДоросла заявка:\nhttps://forms.gle/8MwnmbPewUCxvvkA8
URL:https://motocross.ua/event/iv-etap-kubka-ukraini/
LOCATION:Великий Березний\, WF6J+7XM\, Закарпатська область
CATEGORIES:Мотокрос
ATTACH;FMTTYPE=image/jpeg:https://motocross.ua/wp-content/uploads/2025/08/526992844_1294266619374951_4626473161967315498_n.jpg
END:VEVENT
END:VCALENDAR