
BEGIN:VCALENDAR
VERSION:2.0
PRODID:-//MOTOCROSS.UA - ECPv6.0.11.2//NONSGML v1.0//EN
CALSCALE:GREGORIAN
METHOD:PUBLISH
X-WR-CALNAME:MOTOCROSS.UA
X-ORIGINAL-URL:https://motocross.ua
X-WR-CALDESC:Події для MOTOCROSS.UA
REFRESH-INTERVAL;VALUE=DURATION:PT1H
X-Robots-Tag:noindex
X-PUBLISHED-TTL:PT1H
BEGIN:VTIMEZONE
TZID:Europe/Helsinki
BEGIN:DAYLIGHT
TZOFFSETFROM:+0200
TZOFFSETTO:+0300
TZNAME:EEST
DTSTART:20250330T010000
END:DAYLIGHT
BEGIN:STANDARD
TZOFFSETFROM:+0300
TZOFFSETTO:+0200
TZNAME:EET
DTSTART:20251026T010000
END:STANDARD
END:VTIMEZONE
BEGIN:VEVENT
DTSTART;VALUE=DATE:20250810
DTEND;VALUE=DATE:20250811
DTSTAMP:20260424T050127
CREATED:20250726T062050Z
LAST-MODIFIED:20250803T082314Z
UID:10315-1754784000-1754870399@motocross.ua
SUMMARY:3 етап Кубку України
DESCRIPTION:Онлайн реєстрація до п’ятниці 8 го серпня (п’ятниця) 22:00:\nhttps://forms.gle/UQ2gQCEKgU6zDVc96 \n \n 
URL:https://motocross.ua/event/3-etap-kubku-ukraini/
LOCATION:Оженин\, CFMC+MJ7\, Оженин\, Ukraine
CATEGORIES:Мотокрос
ATTACH;FMTTYPE=image/jpeg:https://motocross.ua/wp-content/uploads/2025/07/0-04-05-cdd0b64efd318578f0b6093e60cc172e60568f32563fcf72892019276185796f-be9bbb27c4c24167.jpg
END:VEVENT
END:VCALENDAR