
BEGIN:VCALENDAR
VERSION:2.0
PRODID:-//MOTOCROSS.UA - ECPv6.0.11.2//NONSGML v1.0//EN
CALSCALE:GREGORIAN
METHOD:PUBLISH
X-ORIGINAL-URL:https://motocross.ua
X-WR-CALDESC:Події для MOTOCROSS.UA
REFRESH-INTERVAL;VALUE=DURATION:PT1H
X-Robots-Tag:noindex
X-PUBLISHED-TTL:PT1H
BEGIN:VTIMEZONE
TZID:Europe/Helsinki
BEGIN:DAYLIGHT
TZOFFSETFROM:+0200
TZOFFSETTO:+0300
TZNAME:EEST
DTSTART:20240331T010000
END:DAYLIGHT
BEGIN:STANDARD
TZOFFSETFROM:+0300
TZOFFSETTO:+0200
TZNAME:EET
DTSTART:20241027T010000
END:STANDARD
END:VTIMEZONE
BEGIN:VEVENT
DTSTART;VALUE=DATE:20240901
DTEND;VALUE=DATE:20240902
DTSTAMP:20260425T022646
CREATED:20240822T151044Z
LAST-MODIFIED:20240823T112340Z
UID:8517-1725148800-1725235199@motocross.ua
SUMMARY:ІІІ етап Кубку України з мотокросу\, регіон 1
DESCRIPTION:Онлайн заявка:\nhttps://docs.google.com/forms/d/e/1FAIpQLSfzqeNINouUzOr5rCWs2ciS7Nhc4Xiz4qIKsZNJvwT1PnKLRg/viewform
URL:https://motocross.ua/event/iii-etap-kubku-ukraini-z-motokrosu-region-1/
LOCATION:Нововолинськ\, P58M+CF\, Тишковичі\, Волинська область
CATEGORIES:Мотокрос
ATTACH;FMTTYPE=image/jpeg:https://motocross.ua/wp-content/uploads/2024/08/photo_2024-08-22_16-21-24.jpg
END:VEVENT
END:VCALENDAR