
BEGIN:VCALENDAR
VERSION:2.0
PRODID:-//MOTOCROSS.UA - ECPv6.0.11.2//NONSGML v1.0//EN
CALSCALE:GREGORIAN
METHOD:PUBLISH
X-ORIGINAL-URL:https://motocross.ua
X-WR-CALDESC:Події для MOTOCROSS.UA
REFRESH-INTERVAL;VALUE=DURATION:PT1H
X-Robots-Tag:noindex
X-PUBLISHED-TTL:PT1H
BEGIN:VTIMEZONE
TZID:Europe/Helsinki
BEGIN:DAYLIGHT
TZOFFSETFROM:+0200
TZOFFSETTO:+0300
TZNAME:EEST
DTSTART:20240331T010000
END:DAYLIGHT
BEGIN:STANDARD
TZOFFSETFROM:+0300
TZOFFSETTO:+0200
TZNAME:EET
DTSTART:20241027T010000
END:STANDARD
END:VTIMEZONE
BEGIN:VEVENT
DTSTART;VALUE=DATE:20240824
DTEND;VALUE=DATE:20240826
DTSTAMP:20260425T022630
CREATED:20240820T140214Z
LAST-MODIFIED:20240820T141956Z
UID:8486-1724457600-1724630399@motocross.ua
SUMMARY:Кубок України ІІІ етап\, регіон 2
DESCRIPTION:24-25.08.2024 відбудеться 3 етап Кубку\nУкраїни з мотокросу у м. Великий Березний.\nЗверніть увагу\, що змагання проводяться в один день\, тому велике прохання реєструватися онлайн активніше.\nОнлайн реєстрація: \nДитяча заявка: \nhttps://forms.gle/aoi5W2gUqgaCFFja6 \nДоросла заявка: \nhttps://forms.gle/jiYyKcUVQ9YPFU919
URL:https://motocross.ua/event/kubok-ukraini-iii-etap-region-2/
LOCATION:Великий Березний\, WF6J+7XM\, Закарпатська область
CATEGORIES:Мотокрос
ATTACH;FMTTYPE=image/jpeg:https://motocross.ua/wp-content/uploads/2024/08/photo_2024-08-20_16-02-42.jpg
END:VEVENT
END:VCALENDAR