
BEGIN:VCALENDAR
VERSION:2.0
PRODID:-//MOTOCROSS.UA - ECPv6.0.11.2//NONSGML v1.0//EN
CALSCALE:GREGORIAN
METHOD:PUBLISH
X-ORIGINAL-URL:https://motocross.ua
X-WR-CALDESC:Події для MOTOCROSS.UA
REFRESH-INTERVAL;VALUE=DURATION:PT1H
X-Robots-Tag:noindex
X-PUBLISHED-TTL:PT1H
BEGIN:VTIMEZONE
TZID:Europe/Helsinki
BEGIN:DAYLIGHT
TZOFFSETFROM:+0200
TZOFFSETTO:+0300
TZNAME:EEST
DTSTART:20250330T010000
END:DAYLIGHT
BEGIN:STANDARD
TZOFFSETFROM:+0300
TZOFFSETTO:+0200
TZNAME:EET
DTSTART:20251026T010000
END:STANDARD
END:VTIMEZONE
BEGIN:VEVENT
DTSTART;VALUE=DATE:20251018
DTEND;VALUE=DATE:20251019
DTSTAMP:20260423T200605
CREATED:20251013T115135Z
LAST-MODIFIED:20251013T123158Z
UID:10414-1760745600-1760831999@motocross.ua
SUMMARY:Відкритий кубок Слобожанщини з мотокросу
DESCRIPTION:18.10.2025 р. відбудеться відкритий кубок Слобожанщини з мотокросу \nЗа детальною інформацією телефонуйте за даними телефонами: \n+380980438124- Олександр \n+380683427708- Роман
URL:https://motocross.ua/event/vidkritiy-kubok-slobojanschini-z-motokrosu/
LOCATION:Краснокутська ТГ (с.Чернещина)\, 35MG+XRQ\, с. Чернещина\, Харківська область
CATEGORIES:Мотокрос
ATTACH;FMTTYPE=image/jpeg:https://motocross.ua/wp-content/uploads/2025/10/IMG_20251013_142846_471-1.jpg
END:VEVENT
BEGIN:VEVENT
DTSTART;VALUE=DATE:20251018
DTEND;VALUE=DATE:20251020
DTSTAMP:20260423T200605
CREATED:20251011T070704Z
LAST-MODIFIED:20251013T122837Z
UID:10404-1760745600-1760918399@motocross.ua
SUMMARY:Чемпіонат України з мотокросу (III етап)\, Кубок міста Буча з мотокросу
DESCRIPTION:18 та 19 жовтня 2025 року у місті Буча на СТК «Сона» відбудуться:\n\n\n Чемпіонат України з мотокросу (III етап)\n\n\n Кубок міста Буча з мотокросу.\nКласи:\nВетеран\nХоббі МХ-1\nХоббі МХ-2\n\n\nФорма для реєстрації \n\n\nhttps://forms.gle/pPcifcGHw2GN3kda8 
URL:https://motocross.ua/event/chempionat-ukraini-z-motokrosu-iii-etap-kubok-mista-bucha-z-motokrosu/
LOCATION:Буча СТК “Сона”\, G59V+JR2\, Буча\, Ukraine
CATEGORIES:Мотокрос
ATTACH;FMTTYPE=image/jpeg:https://motocross.ua/wp-content/uploads/2025/10/photo_2025-10-08_15-48-32.jpg
ORGANIZER;CN="%D0%A1%D0%A2%D0%9A%20%22%D0%A1%D0%BE%D0%BD%D0%B0%22":MAILTO:office@stksona.com
END:VEVENT
BEGIN:VEVENT
DTSTART;VALUE=DATE:20251025
DTEND;VALUE=DATE:20251027
DTSTAMP:20260423T200605
CREATED:20250924T094933Z
LAST-MODIFIED:20251011T070406Z
UID:10388-1761350400-1761523199@motocross.ua
SUMMARY:Чемпіонат Днапропетровської та Кіровоградської обл. з мотокросу
DESCRIPTION: ЧЕМПІОНАТ ДНІПРОПЕТРОВСЬКОЇ ТА КІРОВОГРАДСЬКОЇ ОБЛАСТЕЙ З МОТОКРОСУ та  КУБОК ІГОРЯ ПАНОВА \n25-26 жовтня 2025 року\n Звʼязок з організатором: +38(068) 000 01 37 (с 9.00 до 19.00):\nОнлайн реєстрація для райдерів\n– Доросла заявка https://forms.gle/PR9mRZcg4ZCe9cWZ8– Дитяча заявка https://forms.gle/KMNexzR2CvmJtmiZ7\nГотуйтесь до справжнього свята спорту та екстриму! \n ХТО БЕРЕ УЧАСТЬ:– Дорослі та юні райдери– Професіонали\, аматори та початківці– Всі категорії – кожен знайде своє місце на треку!\n Два дні запеклих боїв за звання найкращого! Атмосфера справжнього мотоспорту! Адреналін гарантований!\nПриходьте підтримати наших райдерів та відчути дух справжнього екстриму!
URL:https://motocross.ua/event/10388/
LOCATION:Дніпро “Агро-Союз”\, G2PX+G5M\, Дніпро\, Дніпропетровська область
CATEGORIES:Мотокрос
ATTACH;FMTTYPE=image/jpeg:https://motocross.ua/wp-content/uploads/2025/09/558995751_24745686041748590_1936032585744670164_n.jpg
END:VEVENT
BEGIN:VEVENT
DTSTART;VALUE=DATE:20251026
DTEND;VALUE=DATE:20251027
DTSTAMP:20260423T200605
CREATED:20251021T162151Z
LAST-MODIFIED:20251021T162728Z
UID:10459-1761436800-1761523199@motocross.ua
SUMMARY:Чемпіонат Закарпатської області та Кубок міста Іршава
DESCRIPTION:Запрошуємо на мотокрос\, присвячений пам’яті полеглих воїнів та Збройним Силам України!\n26 жовтня в місті Іршава відбудеться Чемпіонат Закарпатської області та Кубок міста Іршава з мотокросу!\n Місце проведення: поблизу с. Лоза\, біля траси у напрямку села Дубрівка (урочище “Берег-Лоза “)\, Іршавська громада\n Початок змагань: 12:00 (за київським часом)\nБеріть гарний настрій та повідомте друзів\, чекаємо на вас з нетерпінням! Вшануймо наших героїв разом!
URL:https://motocross.ua/event/chempionat-zakarpatskoi-oblasti-ta-kubok-mista-irshava/
LOCATION:Іршава\, 8336+4M8\, Іршава\, Закарпатська область
CATEGORIES:Мотокрос
ATTACH;FMTTYPE=image/jpeg:https://motocross.ua/wp-content/uploads/2025/10/566211217_1345972870873657_5179433960552092611_n.jpg
END:VEVENT
END:VCALENDAR