
BEGIN:VCALENDAR
VERSION:2.0
PRODID:-//MOTOCROSS.UA - ECPv6.0.11.2//NONSGML v1.0//EN
CALSCALE:GREGORIAN
METHOD:PUBLISH
X-ORIGINAL-URL:https://motocross.ua
X-WR-CALDESC:Події для MOTOCROSS.UA
REFRESH-INTERVAL;VALUE=DURATION:PT1H
X-Robots-Tag:noindex
X-PUBLISHED-TTL:PT1H
BEGIN:VTIMEZONE
TZID:Europe/Helsinki
BEGIN:DAYLIGHT
TZOFFSETFROM:+0200
TZOFFSETTO:+0300
TZNAME:EEST
DTSTART:20250330T010000
END:DAYLIGHT
BEGIN:STANDARD
TZOFFSETFROM:+0300
TZOFFSETTO:+0200
TZNAME:EET
DTSTART:20251026T010000
END:STANDARD
END:VTIMEZONE
BEGIN:VEVENT
DTSTART;VALUE=DATE:20250810
DTEND;VALUE=DATE:20250811
DTSTAMP:20260424T013809
CREATED:20250726T062050Z
LAST-MODIFIED:20250803T082314Z
UID:10315-1754784000-1754870399@motocross.ua
SUMMARY:3 етап Кубку України
DESCRIPTION:Онлайн реєстрація до п’ятниці 8 го серпня (п’ятниця) 22:00:\nhttps://forms.gle/UQ2gQCEKgU6zDVc96 \n \n 
URL:https://motocross.ua/event/3-etap-kubku-ukraini/
LOCATION:Оженин\, CFMC+MJ7\, Оженин\, Ukraine
CATEGORIES:Мотокрос
ATTACH;FMTTYPE=image/jpeg:https://motocross.ua/wp-content/uploads/2025/07/0-04-05-cdd0b64efd318578f0b6093e60cc172e60568f32563fcf72892019276185796f-be9bbb27c4c24167.jpg
END:VEVENT
BEGIN:VEVENT
DTSTART;VALUE=DATE:20250816
DTEND;VALUE=DATE:20250818
DTSTAMP:20260424T013809
CREATED:20250810T142645Z
LAST-MODIFIED:20250810T144226Z
UID:10345-1755302400-1755475199@motocross.ua
SUMMARY:1 етап Чемпіонату України\, Кубок міста Чернівці
DESCRIPTION:Увага\n\n\n 16-17.08.2025 у м.Чернівці відбудеться -ий етап Чемпіонату України з мотокросу серед дорослих та молоді\, а також Кубок міста Чернівці!\n\n\n Два дня незабутніх запеклих перегонів! Всі класи спортсменів!\n\n\n\n Глядачам вхід вільний!!!\n\n\n\nОнлайн реєстрація для спортсменів вже відкрита:\n\n\nДоросла завка:\nhttps://forms.gle/qXDzyunt7roAbEvW9\n\n\nДитяча заявка:\nhttps://forms.gle/JtCCzhTLG14oAVfR6\n\n\n\n Вся потрібна інформація на сайті:\n\nhttps://sites.google.com/…/1-%D0%B5%D1%82%D0%B0%D0%BF…
URL:https://motocross.ua/event/1-etap-chempionatu-ukraini-z-motokrosu-kubok-mista-chernivci/
LOCATION:Чернівці\, 7XGH+89\, Чернівецька область
CATEGORIES:Мотокрос
ATTACH;FMTTYPE=image/jpeg:https://motocross.ua/wp-content/uploads/2025/08/Screenshot-2025-08-10-172219.jpg
END:VEVENT
BEGIN:VEVENT
DTSTART;VALUE=DATE:20250823
DTEND;VALUE=DATE:20250825
DTSTAMP:20260424T013809
CREATED:20250815T064422Z
LAST-MODIFIED:20250815T064422Z
UID:10353-1755907200-1756079999@motocross.ua
SUMMARY:3-4 етап Чемпіонату України з суперкросу\, 1-2 Полтавської обл.
DESCRIPTION:
URL:https://motocross.ua/event/3-4-etap-chempionatu-ukraini-z-superkrosu-1-2-poltavskoi-obl/
LOCATION:Полтава “Патлаївка”\, JHMH+PMJ\, Полтавська область
CATEGORIES:Мотокрос,Суперкрос
ATTACH;FMTTYPE=image/jpeg:https://motocross.ua/wp-content/uploads/2025/08/533003523_1817339378858347_6113249972951580952_n.jpg
END:VEVENT
BEGIN:VEVENT
DTSTART;VALUE=DATE:20250830
DTEND;VALUE=DATE:20250831
DTSTAMP:20260424T013809
CREATED:20250826T072456Z
LAST-MODIFIED:20250826T072456Z
UID:10363-1756512000-1756598399@motocross.ua
SUMMARY:4 етап Чемпіонату Дніпропетровської і Кіровоградської обл.
DESCRIPTION:
URL:https://motocross.ua/event/4-etap-chempionatu-dnipropetrovskoi-i-kirovogradskoi-obl/
LOCATION:Жовті Води\, 8GM5+F5 Жовті Води\, Дніпропетровська область
CATEGORIES:Мотокрос
ATTACH;FMTTYPE=image/jpeg:https://motocross.ua/wp-content/uploads/2025/08/514250707_2556708428033460_3010993626662276359_n.jpg
END:VEVENT
BEGIN:VEVENT
DTSTART;VALUE=DATE:20250830
DTEND;VALUE=DATE:20250901
DTSTAMP:20260424T013809
CREATED:20250822T093849Z
LAST-MODIFIED:20250822T133516Z
UID:10357-1756512000-1756684799@motocross.ua
SUMMARY:2 етап Чемпіонау України з мотокросу
DESCRIPTION:Онлайн реєстрація вже відкрита: \n\nДитяча заявка:\nhttps://forms.gle/Lr8MjoPidGaBUH926\n\n\nДоросла заявка:\nhttps://forms.gle/sQ626hyVge6DmCZi8
URL:https://motocross.ua/event/2-etap-chempionau-ukraini-z-motokrosu/
LOCATION:Нововолинськ\, P58M+CF\, Тишковичі\, Волинська область
CATEGORIES:Мотокрос
ATTACH;FMTTYPE=image/jpeg:https://motocross.ua/wp-content/uploads/2025/08/536273196_3636631543140663_654605169007848842_n.jpg
END:VEVENT
END:VCALENDAR