
BEGIN:VCALENDAR
VERSION:2.0
PRODID:-//MOTOCROSS.UA - ECPv6.0.11.2//NONSGML v1.0//EN
CALSCALE:GREGORIAN
METHOD:PUBLISH
X-ORIGINAL-URL:https://motocross.ua
X-WR-CALDESC:Події для MOTOCROSS.UA
REFRESH-INTERVAL;VALUE=DURATION:PT1H
X-Robots-Tag:noindex
X-PUBLISHED-TTL:PT1H
BEGIN:VTIMEZONE
TZID:Europe/Helsinki
BEGIN:DAYLIGHT
TZOFFSETFROM:+0200
TZOFFSETTO:+0300
TZNAME:EEST
DTSTART:20250330T010000
END:DAYLIGHT
BEGIN:STANDARD
TZOFFSETFROM:+0300
TZOFFSETTO:+0200
TZNAME:EET
DTSTART:20251026T010000
END:STANDARD
END:VTIMEZONE
BEGIN:VEVENT
DTSTART;VALUE=DATE:20250510
DTEND;VALUE=DATE:20250511
DTSTAMP:20260424T075547
CREATED:20250419T053845Z
LAST-MODIFIED:20250419T053845Z
UID:10058-1746835200-1746921599@motocross.ua
SUMMARY:Кубок Олександра Морозова
DESCRIPTION:
URL:https://motocross.ua/event/kubok-oleksandra-morozova/
LOCATION:Оженин\, CFMC+MJ7\, Оженин\, Ukraine
CATEGORIES:Мотокрос
ATTACH;FMTTYPE=image/jpeg:https://motocross.ua/wp-content/uploads/2025/04/IMG_2227.jpg
END:VEVENT
BEGIN:VEVENT
DTSTART;VALUE=DATE:20250511
DTEND;VALUE=DATE:20250512
DTSTAMP:20260424T075547
CREATED:20250504T064609Z
LAST-MODIFIED:20250504T064813Z
UID:10073-1746921600-1747007999@motocross.ua
SUMMARY:Відкритий чемпіонат Кіровоградської та Дніпропетровської областей\, 2 етап
DESCRIPTION:
URL:https://motocross.ua/event/vidkritiy-chempionat-kirovogradskoi-ta-dnipropetrovskoi-oblastey-2-etap/
LOCATION:Тернівка\, G3P2+4QQ Тернівка\, Дніпропетровська область
CATEGORIES:Мотокрос
ATTACH;FMTTYPE=image/jpeg:https://motocross.ua/wp-content/uploads/2025/05/494374854_2453359211701716_5674186914377122693_n.jpg
END:VEVENT
BEGIN:VEVENT
DTSTART;VALUE=DATE:20250531
DTEND;VALUE=DATE:20250602
DTSTAMP:20260424T075547
CREATED:20250514T054016Z
LAST-MODIFIED:20250527T122519Z
UID:10201-1748649600-1748822399@motocross.ua
SUMMARY:2 етап Кубку України з мотокросу
DESCRIPTION:
URL:https://motocross.ua/event/2-etap-kubku-ukraini-z-motokrosu/
LOCATION:Полтава “Патлаївка”\, JHMH+PMJ\, Полтавська область
CATEGORIES:Мотокрос
ATTACH;FMTTYPE=image/jpeg:https://motocross.ua/wp-content/uploads/2025/05/493679629_2463713107332993_1932844083682898254_n.jpg
END:VEVENT
END:VCALENDAR