
BEGIN:VCALENDAR
VERSION:2.0
PRODID:-//MOTOCROSS.UA - ECPv6.0.11.2//NONSGML v1.0//EN
CALSCALE:GREGORIAN
METHOD:PUBLISH
X-WR-CALNAME:MOTOCROSS.UA
X-ORIGINAL-URL:https://motocross.ua
X-WR-CALDESC:Події для MOTOCROSS.UA
REFRESH-INTERVAL;VALUE=DURATION:PT1H
X-Robots-Tag:noindex
X-PUBLISHED-TTL:PT1H
BEGIN:VTIMEZONE
TZID:Europe/Helsinki
BEGIN:DAYLIGHT
TZOFFSETFROM:+0200
TZOFFSETTO:+0300
TZNAME:EEST
DTSTART:20250330T010000
END:DAYLIGHT
BEGIN:STANDARD
TZOFFSETFROM:+0300
TZOFFSETTO:+0200
TZNAME:EET
DTSTART:20251026T010000
END:STANDARD
END:VTIMEZONE
BEGIN:VEVENT
DTSTART;VALUE=DATE:20250316
DTEND;VALUE=DATE:20250317
DTSTAMP:20260424T134539
CREATED:20250308T075805Z
LAST-MODIFIED:20250308T075916Z
UID:9840-1742083200-1742169599@motocross.ua
SUMMARY:Кубок АМК "Кристал"\, 1 етап
DESCRIPTION:🏁 КУБОК АМК «КРИСТАЛ» – 1-Й ЕТАП 🏁\n📅 16 березня 2025 року\n📍 Локація: с. Вельбівно Рівненський р-н.\n🚀 Це не просто змагання – це вибух адреналіну\, швидкості та драйву!\n💨 Пісок\, бруд\, віражі – справжнє випробування для найсильніших!\n💪 Кращі спортсмени країни\, запекла боротьба\, мотоцикли на межі можливостей!\n🔹 Класи: 50-65-85 сс\, Жінки\, AMX2 – AMX1\, MX1 – MX2\, Ветеран 1-2-3.\n🎟 Вхід вільний!\n📣 Бери друзів і приходь донать\, підтримуй ЗСУ та гонщиків!\n⚡ Перші змагання сезону – тут твориться історія мотокросу! ⚡
URL:https://motocross.ua/event/kubok-amk-kristal-1-etap/
LOCATION:Вельбівно\, 9H5M+GVP\, Рівненьска
CATEGORIES:Мотокрос
ATTACH;FMTTYPE=image/jpeg:https://motocross.ua/wp-content/uploads/2025/03/481666933_1835602087203452_217178185092702805_n.jpg
END:VEVENT
BEGIN:VEVENT
DTSTART;VALUE=DATE:20250330
DTEND;VALUE=DATE:20250331
DTSTAMP:20260424T134539
CREATED:20250317T213201Z
LAST-MODIFIED:20250321T070041Z
UID:9878-1743292800-1743379199@motocross.ua
SUMMARY:Відкритий Чемпіонат Львова\, 1 етап
DESCRIPTION:Метою змагань є \, популяризувати мотокрос у Львові \, дати змогу молодому поколінню фізично розвиватись \, обовʼязково допомогти нашим військовим\n\n\nМотоклуб “Зазірʼя” спільно з ДЮСШ6 м.Львова створює новий формат – відкритий чемпіонат міста Львова з мотокросу у щонайменше 2 етапи ￼на різних локаціях .\n\n\nТраса “Білогорща” 80% пісок\, 20% глинка \, дозволяє тренуватися і змагатися в любу погоду \, має довжину 1260 м. \, мінімальна ширина 6м. \, на трасі побудовані 9 трамплінів і одна ритм-секція з чотирьох мінітрамплінів .\n\n\nТраса розташована в одному кілометрі від кільцевої дороги зі сторони селища Зимної Води .\n\n\nЗмагання будуть проводитися у таких класах: 50(5-9р) \,\n65 (8-12р.)\,\n85 (12-15р.) \,\n125 2т / 250 4т (до18 р.)см./куб. \,\nЖінки (від 15 р.) \,\nМХ1 \,МХ2 (від 18 р.)\,\nВетерани 1гр.(50+)\, 2гр.(60+)\n\n\nПереможці і призери будуть нагороджуватись  медалями і грамотами \,всі дитячі класи і Жінки грошова винагорода до 5 місця\nДорослим памятні призи \n\n\n\n\nОнлайн реєстрація!!\n\n\n\nДоросла заявка:\nhttps://forms.gle/8SaqnXe4KCGyBNHy8\n\n\nДитяча заявка:\nhttps://forms.gle/KYTSpLen3FMbj7bx5\n\n\n\n 
URL:https://motocross.ua/event/vidkritiy-chempionat-lvova-1-etap/
LOCATION:Білогорща\, RWW8+8VM\, Львівська обл.
CATEGORIES:Мотокрос
ATTACH;FMTTYPE=image/jpeg:https://motocross.ua/wp-content/uploads/2025/03/484993309_1193127569481127_5554316474060823114_n.jpg
ORGANIZER;CN="%D0%9C%D0%BE%D1%82%D0%BE%D0%BA%D0%BB%D1%83%D0%B1%20%22%D0%97%D0%B0%D0%B7%D1%96%D1%80%27%D1%8F%22%20%D0%9B%D1%8C%D0%B2%D1%96%D0%B2":MAILTO:kosmich21372137@gmail.com
END:VEVENT
END:VCALENDAR