
BEGIN:VCALENDAR
VERSION:2.0
PRODID:-//MOTOCROSS.UA - ECPv6.0.11.2//NONSGML v1.0//EN
CALSCALE:GREGORIAN
METHOD:PUBLISH
X-WR-CALNAME:MOTOCROSS.UA
X-ORIGINAL-URL:https://motocross.ua
X-WR-CALDESC:Події для MOTOCROSS.UA
REFRESH-INTERVAL;VALUE=DURATION:PT1H
X-Robots-Tag:noindex
X-PUBLISHED-TTL:PT1H
BEGIN:VTIMEZONE
TZID:Europe/Helsinki
BEGIN:DAYLIGHT
TZOFFSETFROM:+0200
TZOFFSETTO:+0300
TZNAME:EEST
DTSTART:20240331T010000
END:DAYLIGHT
BEGIN:STANDARD
TZOFFSETFROM:+0300
TZOFFSETTO:+0200
TZNAME:EET
DTSTART:20241027T010000
END:STANDARD
END:VTIMEZONE
BEGIN:VEVENT
DTSTART;VALUE=DATE:20241005
DTEND;VALUE=DATE:20241006
DTSTAMP:20260424T214055
CREATED:20240926T104136Z
LAST-MODIFIED:20241002T090242Z
UID:8675-1728086400-1728172799@motocross.ua
SUMMARY:Відкрите тренування
DESCRIPTION:
URL:https://motocross.ua/event/vidkrite-trenuvannya/
LOCATION:Долинська\, 4VP9+QPH\, Олександрівка\, Кіровоградська область
CATEGORIES:Мотокрос
ATTACH;FMTTYPE=image/jpeg:https://motocross.ua/wp-content/uploads/2024/09/461297528_2265867343784238_7023078306325802374_n.jpg
END:VEVENT
BEGIN:VEVENT
DTSTART;VALUE=DATE:20241013
DTEND;VALUE=DATE:20241014
DTSTAMP:20260424T214055
CREATED:20241002T134928Z
LAST-MODIFIED:20241011T201723Z
UID:8716-1728777600-1728863999@motocross.ua
SUMMARY:Кубок України з мотокросу\, IV етап\, регіон 1
DESCRIPTION:Запрошуємо мотогонів до Житомира для участі в четвертому етапі Кубку України з мотокросу\, який відбудеться 13 жовтня 2024 року на треку в с. Клітчин. \nВ зв’язку із зверненнями кросменів щодо вартості стартових внесків відбулась бесіда із Пащинським Олександром\, і досягнута наступна домовленість. Загальні витрати на проведення перегонів складають від 60000 гривень. Житомирщина неодноразово проводила етапи в попередні роки\, і стартові внески або не збирались\, або були на рівні 100-200 гривень. \nГолова нашої федерації Бочковський О.В. підтримує тісні зв’язки з багатьма підприємствами області\, які завжди виступали спонсорами змагань. Але зараз\, під час війни\, ці підприємства донатять на потреби ЗСУ\, робочі колективи та керівники не сприймають за можливе фінансування спортивних змагань до нашої майбутньої перемоги. Тому єдиний можливий формат фінансування майбутніх перегонів – за рахунок внесків спортсменів. \nПопередні етапи збирали 40-60 учасників\, тому неважко підрахувати навантаження на кожного потенційного учасника. Проте окремі спортсмени не згодні з таким становищем справ\, тим більше\, що в офіційних документах компенсаційні внески не прописані. Тому для того\, щоб не скасовувати етап\, був знайдений компроміс\, який полягає в наступному. Дискусія про адекватність стартових внесків витратам на проведення змагань відкладається на зимовий період та буде розглядатись на засіданнях ФМСУ. А зараз спортсмени сплачують частину суми\, а 600 гривень за кожного з вас компенсує безпосередньо Пащинський О.С. Це його особистий внесок\, як депутата і як секретаря федерації в те\, щоб спортивний захід відбувся. \nІ це також відповідь всім скептикам на питання\, а що для розвитку спорту робить федерація мотоциклетного спорту України. Таким чином\, маємо наступну ситуацію: до 6 жовтня включно мотогони\, які реєструються на 4 етап Кубку України\, сплачують 565 гривень дорослі\, а жінки та діти звільнені від оплати. З 07 жовтня вартість зростає до 765 гривень. \nЗвертаю увагу\, що реєстрація та оплата лише попередня\, на картковий рахунок за реквізитами\, готівковий збір коштів безпосередньо на перегонах проводитись не буде\, як і реєстрація\, бо не буде часу. Що стосується мотогонів\, які не мають ліцензії ФМСУ та мають намір їхати в Кубці м. Житомира\, то там повна оплата. \nКошти перераховуються на картковий рахунок АКБ «Приватбанк» за реквізитами IBAN UA863052990000026002026400436 код 2768117118  ФОП Кирильчук А.П. згідно Договору №2 від 26.02.2023. При сплаті обов’язково вказуйте прізвище\, ім’я\, по-батькові. \nФакт сплати означає приєднання до Договору та згоду з усіма його пунктами. Ознайомитися з договором можна тут>>> \nОнлайн реєстрація тут>>> \n \n  \n 
URL:https://motocross.ua/event/kubok-ukraini-z-motokrosu-etap-4-region-1-jitomir/
LOCATION:Житомир (Клітчин)\, 6QJG+Q65\, Житомир\, Ukraine
CATEGORIES:Мотокрос
ATTACH;FMTTYPE=image/jpeg:https://motocross.ua/wp-content/uploads/2024/10/7bea4748.jpg
ORGANIZER;CN="%D0%A4%D0%B5%D0%B4%D0%B5%D1%80%D0%B0%D1%86%D1%96%D1%8F%20%D0%BC%D0%BE%D1%82%D0%BE%D1%86%D0%B8%D0%BA%D0%BB%D0%B5%D1%82%D0%BD%D0%BE%D0%B3%D0%BE%20%D1%81%D0%BF%D0%BE%D1%80%D1%82%D1%83%20%D0%B2%20%D0%96%D0%B8%D1%82%D0%BE%D0%BC%D0%B8%D1%80%D1%81%D1%8C%D0%BA%D1%96%D0%B9%20%D0%BE%D0%B1%D0%BB%D0%B0%D1%81%D1%82%D1%96":MAILTO:arthurmoto1@ukr.net
END:VEVENT
BEGIN:VEVENT
DTSTART;VALUE=DATE:20241013
DTEND;VALUE=DATE:20241014
DTSTAMP:20260424T214055
CREATED:20241004T193120Z
LAST-MODIFIED:20241004T193404Z
UID:8742-1728777600-1728863999@motocross.ua
SUMMARY:VI етап Кубку України з мотокросу\, регіон 2
DESCRIPTION:
URL:https://motocross.ua/event/vi-etap-kubku-ukraini-region-2/
LOCATION:Хуст\, 682R+5GQ Іза\, Закарпатська область
CATEGORIES:Мотокрос
ATTACH;FMTTYPE=image/jpeg:https://motocross.ua/wp-content/uploads/2024/10/462132456_1082378719951639_3569504740977287495_n.jpg
END:VEVENT
BEGIN:VEVENT
DTSTART;VALUE=DATE:20241019
DTEND;VALUE=DATE:20241021
DTSTAMP:20260424T214055
CREATED:20241004T194835Z
LAST-MODIFIED:20241016T084859Z
UID:8746-1729296000-1729468799@motocross.ua
SUMMARY:Фінал Кубку України з мотокросу
DESCRIPTION:19-20 жовтня 2024 року в місті Буча на СТК «СОНА» відбудеться фінал Кубку України з мотокросу! Реєстрація доступна як онлайн\, так і на місці події. \nОн-лайн реєстрація до суботи 19 жовтня 10-00: \nОнлайн реєстрація>>>
URL:https://motocross.ua/event/final-kubku-ukraini-z-motokrosu/
LOCATION:Буча СТК “Сона”\, G59V+JR2\, Буча\, Ukraine
CATEGORIES:Мотокрос
ATTACH;FMTTYPE=image/jpeg:https://motocross.ua/wp-content/uploads/2024/10/462754372_2282986628738976_526577176526616869_n.jpg
ORGANIZER;CN="%D0%A1%D0%A2%D0%9A%20%22%D0%A1%D0%BE%D0%BD%D0%B0%22":MAILTO:office@stksona.com
END:VEVENT
END:VCALENDAR