
BEGIN:VCALENDAR
VERSION:2.0
PRODID:-//MOTOCROSS.UA - ECPv6.0.11.2//NONSGML v1.0//EN
CALSCALE:GREGORIAN
METHOD:PUBLISH
X-ORIGINAL-URL:https://motocross.ua
X-WR-CALDESC:Події для MOTOCROSS.UA
REFRESH-INTERVAL;VALUE=DURATION:PT1H
X-Robots-Tag:noindex
X-PUBLISHED-TTL:PT1H
BEGIN:VTIMEZONE
TZID:Europe/Helsinki
BEGIN:DAYLIGHT
TZOFFSETFROM:+0200
TZOFFSETTO:+0300
TZNAME:EEST
DTSTART:20260329T010000
END:DAYLIGHT
BEGIN:STANDARD
TZOFFSETFROM:+0300
TZOFFSETTO:+0200
TZNAME:EET
DTSTART:20261025T010000
END:STANDARD
END:VTIMEZONE
BEGIN:VEVENT
DTSTART;VALUE=DATE:20260509
DTEND;VALUE=DATE:20260511
DTSTAMP:20260424T021527
CREATED:20260423T065339Z
LAST-MODIFIED:20260423T065339Z
UID:10766-1778284800-1778457599@motocross.ua
SUMMARY:3-й етап Чемпіонату та Кубку України з кантрі-кросу
DESCRIPTION:9-10 травня 2026 року\, відбудеться 3-й етап Чемпіонату та Кубку України з кантрі-кросу під егідою Федерації мотоциклетного спорту України 🇺🇦 \nДва дні потужної боротьби спортсменів та справжнього видовища для глядачів 🤩 \n📍розіграш новенького мотоцикла серед учасників та глядачів в спортивній активності MOT-O ЗАБІГ\n📍заїзди Кубку України з Ралі\n📍шоу програма з мотофристайлу\n📍польова кухня\n📍ТОПовий ведучий заходу\n📍фото/відео зйомка та кадри з неба від кращих в Україні\n📍дитяча зона \n9.05 – тренувальний день\n(кваліфікація)\n10.05 – змагальний день \nРеєстрація відкрита 🥳\nhttps://www.webscorer.com/register?raceid=426295 \nЧат заходу\nt.me/Reverse_Cup
URL:https://motocross.ua/event/3-y-etap-chempionatu-ta-kubku-ukraini-z-kantri-krosu/
LOCATION:Полтавська область
CATEGORIES:Кантрі-крос
ATTACH;FMTTYPE=image/jpeg:https://motocross.ua/wp-content/uploads/2026/04/Clipboard01.jpg
END:VEVENT
END:VCALENDAR