
BEGIN:VCALENDAR
VERSION:2.0
PRODID:-//MOTOCROSS.UA - ECPv6.0.11.2//NONSGML v1.0//EN
CALSCALE:GREGORIAN
METHOD:PUBLISH
X-ORIGINAL-URL:https://motocross.ua
X-WR-CALDESC:Події для MOTOCROSS.UA
REFRESH-INTERVAL;VALUE=DURATION:PT1H
X-Robots-Tag:noindex
X-PUBLISHED-TTL:PT1H
BEGIN:VTIMEZONE
TZID:Europe/Helsinki
BEGIN:DAYLIGHT
TZOFFSETFROM:+0200
TZOFFSETTO:+0300
TZNAME:EEST
DTSTART:20260329T010000
END:DAYLIGHT
BEGIN:STANDARD
TZOFFSETFROM:+0300
TZOFFSETTO:+0200
TZNAME:EET
DTSTART:20261025T010000
END:STANDARD
END:VTIMEZONE
BEGIN:VEVENT
DTSTART;VALUE=DATE:20260503
DTEND;VALUE=DATE:20260504
DTSTAMP:20260425T034526
CREATED:20260417T061313Z
LAST-MODIFIED:20260423T065753Z
UID:10753-1777766400-1777852799@motocross.ua
SUMMARY:Кубок України\, ІІІ етап
DESCRIPTION:🏁 КУБОК УКРАЇНИ З МОТОКРОСУ | III ЕТАП \n📅 3 травня\n📍 с. Оженин\, Рівненська область\nНайгарячіша подія весни вже тут! \n🏍 КЛАСИ:\n50 • 65 • 85 • АМХ 1-2 • МХ1-2 • Жінки \nРеєстрація: \nhttps://forms.gle/wxaMzmNzmEY5gmro8
URL:https://motocross.ua/event/kubok-ukraini-iii-etap/
LOCATION:Оженин\, CFMC+MJ7\, Оженин\, Ukraine
CATEGORIES:Мотокрос
ATTACH;FMTTYPE=image/jpeg:https://motocross.ua/wp-content/uploads/2026/04/photo_2026-04-17_09-08-53.jpg
END:VEVENT
BEGIN:VEVENT
DTSTART;VALUE=DATE:20260503
DTEND;VALUE=DATE:20260504
DTSTAMP:20260425T034526
CREATED:20260423T070822Z
LAST-MODIFIED:20260423T070822Z
UID:10771-1777766400-1777852799@motocross.ua
SUMMARY:Кубок України 1 регіон\, 1 етап
DESCRIPTION:Дитяча заявка\nhttps://docs.google.com/forms/d/e/1FAIpQLSc2e1oDQM9ik4teJ8fp_C546yTSH4nLLvB9Tp0L7fJR0NFdSg/viewform?usp=publish-editor \nДоросла заявка\nhttps://docs.google.com/forms/d/e/1FAIpQLSeR_3nWl4YmSZAIqIoDWTsitOk0TdRfdkKk_VS3oDeNc1RYtQ/viewform?usp=publish-editor\
URL:https://motocross.ua/event/kubok-ukraini-1-region-1-etap/
LOCATION:Полтава “Патлаївка”\, JHMH+PMJ\, Полтавська область
CATEGORIES:Мотокрос
ATTACH;FMTTYPE=image/jpeg:https://motocross.ua/wp-content/uploads/2026/04/671578002_2018863255372624_7353574110038542075_n.jpg
END:VEVENT
END:VCALENDAR